BEGIN:VCALENDAR
PRODID:-//Dr. Thomas Wagner\, TUM WWW & Online Services//myTUM Advanced Calendaring 0.1//DE
VERSION:2.0
METHOD:GET
BEGIN:VTIMEZONE
TZID:Europe/Berlin
BEGIN:STANDARD
DTSTART:20071028T010000
TZOFFSETTO:+0100
TZOFFSETFROM:+0000
TZNAME:CET
END:STANDARD
BEGIN:DAYLIGHT
TZOFFSETTO:+0200
TZOFFSETFROM:+0100
TZNAME:CEST
DTSTART:20080330T020000
END:DAYLIGHT
END:VTIMEZONE
BEGIN:VEVENT
SEQUENCE:1
TRANSP:OPAQUE
UID:termine-tumi_Event.2019-05-14.1433518033_portal.mytum.de
DTSTART;TZID=Europe/Berlin:20190527T141000
ORGANIZER;CN="Thomas Bergmann":mailto:bergmann@tum.de
DTSTAMP:20260420T023710
LAST-MODIFIED:20190514T141551
CATEGORIES:KULTUR
SUMMARY:Bowling
DESCRIPTION:Registration in TUMi office Participants: 48  Availability: 48  Costs: 6 €  Meeting point & time for participants will be send via email shortly before the event.
CLASS:PUBLIC
URL;VALUE=URL:https://portal.mytum.de/veranstaltungen/ic/termine-tumi/Event.2019-05-14.1433518033
CREATED:20190514T141357
DTEND;TZID=Europe/Berlin:20190527T141000
END:VEVENT
END:VCALENDAR
