BEGIN:VCALENDAR
PRODID:-//Dr. Thomas Wagner\, TUM WWW & Online Services//myTUM Advanced Calendaring 0.1//DE
VERSION:2.0
METHOD:GET
BEGIN:VTIMEZONE
TZID:Europe/Berlin
BEGIN:STANDARD
DTSTART:20071028T010000
TZOFFSETTO:+0100
TZOFFSETFROM:+0000
TZNAME:CET
END:STANDARD
BEGIN:DAYLIGHT
TZOFFSETTO:+0200
TZOFFSETFROM:+0100
TZNAME:CEST
DTSTART:20080330T020000
END:DAYLIGHT
END:VTIMEZONE
BEGIN:VEVENT
SEQUENCE:1
TRANSP:OPAQUE
UID:termine-tumi_Event.2019-04-01.1597568267_portal.mytum.de
DTSTART;TZID=Europe/Berlin:20190410T133000
ORGANIZER;CN="Maria Genova":mailto:maria.genova@tum.de
DTSTAMP:20260423T151037
LAST-MODIFIED:20190926T150329
CATEGORIES:KULTUR
SUMMARY:NS Dokuzentrum 
DESCRIPTION:Anmeldung: Verbindlich online einschreiben, bei großer Nachfrage Wartelistenplatz.  Teilnehmerzahl: 13  Treffpunkt & Uhrzeit werden den Teilnehmern vor dem Beginn der Veranstaltung per Email mitgeteilt. 
CLASS:PUBLIC
URL;VALUE=URL:https://portal.mytum.de/veranstaltungen/ic/termine-tumi/Event.2019-04-01.1597568267
CREATED:20190401T151947
DTEND;TZID=Europe/Berlin:20190410T153000
END:VEVENT
END:VCALENDAR
