BEGIN:VCALENDAR
PRODID:-//Dr. Thomas Wagner\, TUM WWW & Online Services//myTUM Advanced Calendaring 0.1//DE
VERSION:2.0
METHOD:GET
BEGIN:VTIMEZONE
TZID:Europe/Berlin
BEGIN:STANDARD
DTSTART:20071028T010000
TZOFFSETTO:+0100
TZOFFSETFROM:+0000
TZNAME:CET
END:STANDARD
BEGIN:DAYLIGHT
TZOFFSETTO:+0200
TZOFFSETFROM:+0100
TZNAME:CEST
DTSTART:20080330T020000
END:DAYLIGHT
END:VTIMEZONE
BEGIN:VEVENT
SEQUENCE:1
TRANSP:OPAQUE
UID:termine-tumi_Event.2018-10-11.2042619878_portal.mytum.de
DTSTART;TZID=Europe/Berlin:20181025T113000
ORGANIZER;CN="Maria Genova":mailto:maria.genova@tum.de
DTSTAMP:20260423T203948
LAST-MODIFIED:20181019T152553
CATEGORIES:BETRIEBSFüHRUNG
SUMMARY:BMW Werksführung II
DESCRIPTION:Anmeldung im TUMi Büro, Raum 0185.  Teilnehmerzahl: 28  Verfügbarkeit: 2   Kosten: 4 € (Barzahlung)  Treffpunkt & Uhrzeit werden den Teilnehmern vor dem Beginn der Veranstaltung per Email mitgeteilt. 
CLASS:PUBLIC
URL;VALUE=URL:https://portal.mytum.de/veranstaltungen/ic/termine-tumi/Event.2018-10-11.2042619878
CREATED:20181011T161212
DTEND;TZID=Europe/Berlin:20181025T143000
END:VEVENT
END:VCALENDAR
