BEGIN:VCALENDAR
PRODID:-//Dr. Thomas Wagner\, TUM WWW & Online Services//myTUM Advanced Calendaring 0.1//DE
VERSION:2.0
METHOD:GET
BEGIN:VTIMEZONE
TZID:Europe/Berlin
BEGIN:STANDARD
DTSTART:20071028T010000
TZOFFSETTO:+0100
TZOFFSETFROM:+0000
TZNAME:CET
END:STANDARD
BEGIN:DAYLIGHT
TZOFFSETTO:+0200
TZOFFSETFROM:+0100
TZNAME:CEST
DTSTART:20080330T020000
END:DAYLIGHT
END:VTIMEZONE
BEGIN:VEVENT
SEQUENCE:1
TRANSP:OPAQUE
UID:termine-tumi_Event.2017-11-24.5547395033_portal.mytum.de
DTSTART;TZID=Europe/Berlin:20171206T190000
ORGANIZER;CN="Thomas Bergmann":mailto:bergmann@tum.de
DTSTAMP:20260420T155710
LAST-MODIFIED:20230315T135143
CATEGORIES:KULTUR
SUMMARY:Night of the Board Games
DESCRIPTION:Teilnehmerzahl: unbegrenzt  Registrierung: online Kosten: keine  Treffpunkt: Raum 2100 (TUM Stammgelände)
CLASS:PUBLIC
URL;VALUE=URL:https://portal.mytum.de/veranstaltungen/ic/termine-tumi/Event.2017-11-24.5547395033
CREATED:20171124T175331
DTEND;TZID=Europe/Berlin:20171206T210000
END:VEVENT
END:VCALENDAR
