BEGIN:VCALENDAR
PRODID:-//Dr. Thomas Wagner\, TUM WWW & Online Services//myTUM Advanced Calendaring 0.1//DE
VERSION:2.0
METHOD:GET
BEGIN:VTIMEZONE
TZID:Europe/Berlin
BEGIN:STANDARD
DTSTART:20071028T010000
TZOFFSETTO:+0100
TZOFFSETFROM:+0000
TZNAME:CET
END:STANDARD
BEGIN:DAYLIGHT
TZOFFSETTO:+0200
TZOFFSETFROM:+0100
TZNAME:CEST
DTSTART:20080330T020000
END:DAYLIGHT
END:VTIMEZONE
BEGIN:VEVENT
SEQUENCE:1
TRANSP:OPAQUE
UID:termine-tumi_Event.2017-09-25.5497403565_portal.mytum.de
DTSTART;TZID=Europe/Berlin:20171008T080000
ORGANIZER;CN="Steven Schwarz":mailto:steven.schwarz@tum.de
DTSTAMP:20260420T204006
LAST-MODIFIED:20180926T110326
CATEGORIES:AUSFLUG/EXKURSION
SUMMARY:Bamberg
DESCRIPTION:Anmeldung im TUMi Büro, Raum 0185.  Teilnehmerzahl: 31  Verfügbarkeit: 0/31 SOLD!  Kosten: 15€ (Barzahlung)  Treffpunkt & Uhrzeit werden den Teilnehmern vor der Beginn der Veranstaltung per Email mitgeteilt. 
CLASS:PUBLIC
URL;VALUE=URL:https://portal.mytum.de/veranstaltungen/ic/termine-tumi/Event.2017-09-25.5497403565
CREATED:20170925T183815
DTEND;TZID=Europe/Berlin:20171008T180000
END:VEVENT
END:VCALENDAR
