BEGIN:VCALENDAR
PRODID:-//Dr. Thomas Wagner\, TUM WWW & Online Services//myTUM Advanced Calendaring 0.1//DE
VERSION:2.0
METHOD:GET
BEGIN:VTIMEZONE
TZID:Europe/Berlin
BEGIN:STANDARD
DTSTART:20071028T010000
TZOFFSETTO:+0100
TZOFFSETFROM:+0000
TZNAME:CET
END:STANDARD
BEGIN:DAYLIGHT
TZOFFSETTO:+0200
TZOFFSETFROM:+0100
TZNAME:CEST
DTSTART:20080330T020000
END:DAYLIGHT
END:VTIMEZONE
BEGIN:VEVENT
SEQUENCE:1
TRANSP:OPAQUE
UID:termine-tumi_Event.2017-09-25.3768412648_portal.mytum.de
DTSTART;TZID=Europe/Berlin:20171007T120000
ORGANIZER;CN="Steven Schwarz":mailto:steven.schwarz@tum.de
DTSTAMP:20260421T101914
LAST-MODIFIED:20171005T145247
CATEGORIES:KULTUR
SUMMARY:Deutsches Museum
DESCRIPTION:Anmeldung im TUMi Büro, Raum 0185.  Teilnehmerzahl: 28  Verfügbarkeit: 0/28 SOLD!  Kosten: 4€ (Barzahlung)  Treffpunkt & Uhrzeit werden den Teilnehmern vor der Beginn der Veranstaltung per Email mitgeteilt.  
CLASS:PUBLIC
URL;VALUE=URL:https://portal.mytum.de/veranstaltungen/ic/termine-tumi/Event.2017-09-25.3768412648
CREATED:20170925T182323
DTEND;TZID=Europe/Berlin:20171007T160000
END:VEVENT
END:VCALENDAR
