BEGIN:VCALENDAR
PRODID:-//Dr. Thomas Wagner\, TUM WWW & Online Services//myTUM Advanced Calendaring 0.1//DE
VERSION:2.0
METHOD:GET
BEGIN:VTIMEZONE
TZID:Europe/Berlin
BEGIN:STANDARD
DTSTART:20071028T010000
TZOFFSETTO:+0100
TZOFFSETFROM:+0000
TZNAME:CET
END:STANDARD
BEGIN:DAYLIGHT
TZOFFSETTO:+0200
TZOFFSETFROM:+0100
TZNAME:CEST
DTSTART:20080330T020000
END:DAYLIGHT
END:VTIMEZONE
BEGIN:VEVENT
SEQUENCE:1
TRANSP:OPAQUE
UID:termine-tumi_Event.2017-04-03.5749588319_portal.mytum.de
DTSTART;TZID=Europe/Berlin:20170412T130000
ORGANIZER;CN="Steven Schwarz":mailto:steven.schwarz@tum.de
DTSTAMP:20260423T114908
LAST-MODIFIED:20170404T112458
CATEGORIES:INFOVERANSTALTUNG
SUMMARY:Campusführung Garching III
DESCRIPTION:Teilnehmerzahl: 40  Registrierung: verbindlich online einschreiben, bei großer Nachfrage Warteliste  Treffpunkt und detaillierte Informationen für Teilnehmer per Email
CLASS:PUBLIC
URL;VALUE=URL:https://portal.mytum.de/veranstaltungen/ic/termine-tumi/Event.2017-04-03.5749588319
CREATED:20170403T104729
DTEND;TZID=Europe/Berlin:20170412T150000
END:VEVENT
END:VCALENDAR
