BEGIN:VCALENDAR
PRODID:-//Dr. Thomas Wagner\, TUM WWW & Online Services//myTUM Advanced Calendaring 0.1//DE
VERSION:2.0
METHOD:GET
BEGIN:VTIMEZONE
TZID:Europe/Berlin
BEGIN:STANDARD
DTSTART:20071028T010000
TZOFFSETTO:+0100
TZOFFSETFROM:+0000
TZNAME:CET
END:STANDARD
BEGIN:DAYLIGHT
TZOFFSETTO:+0200
TZOFFSETFROM:+0100
TZNAME:CEST
DTSTART:20080330T020000
END:DAYLIGHT
END:VTIMEZONE
BEGIN:VEVENT
SEQUENCE:1
TRANSP:OPAQUE
UID:termine_event.2008-02-27.8742866133_portal.mytum.de
DTSTART;TZID=Europe/Berlin:20080705T150000
ORGANIZER;CN="b.trapp@bv.tum.de":mailto:b.trapp@bv.tum.de
DTSTAMP:20260426T045455
LAST-MODIFIED:20080227T095719
CATEGORIES:SOCIAL EVENT
SUMMARY:Tag der Fakultät BV
DESCRIPTION:Die Fakultät für Bauingenieur- und Vermessungswesen ehrt mit dem Tag der Fakultät ihre Absolventen des Studienjahres 2007/08. Eingeladen sind neben Studierenden und Mitarbeitern der Fakultät viele Alumni sowie Partner aus Industrie, Behörden und Ingenieurbüros. Ebenso werden Verbände und die Ingenieurekammer eingebunden. Als Festredner hat Herr Prof. Hilmar Ingensand von der ETH Zürich zugesagt. Ein weiterer Höhepunkt wird die Verleihung des Doce et Delecta sein, ein Preis unserer Studierenden für gute Lehre. Durch die Veranstaltung führt Prof. Dr.-Ing. Florian Seitz, Juniorprofessor für Earth Oriented Space Science and Technology ESPACE.
CONTACT:b.trapp@bv.tum.de
LOCATION:Audimax
CLASS:PUBLIC
URL;VALUE=URL:https://portal.mytum.de/termine/event.2008-02-27.8742866133
CREATED:20080227T094434
DTEND;TZID=Europe/Berlin:20080705T230000
END:VEVENT
END:VCALENDAR
