BEGIN:VCALENDAR
PRODID:-//Dr. Thomas Wagner\, TUM WWW & Online Services//myTUM Advanced Calendaring 0.1//DE
VERSION:2.0
METHOD:GET
BEGIN:VTIMEZONE
TZID:Europe/Berlin
BEGIN:STANDARD
DTSTART:20071028T010000
TZOFFSETTO:+0100
TZOFFSETFROM:+0000
TZNAME:CET
END:STANDARD
BEGIN:DAYLIGHT
TZOFFSETTO:+0200
TZOFFSETFROM:+0100
TZNAME:CEST
DTSTART:20080330T020000
END:DAYLIGHT
END:VTIMEZONE
BEGIN:VEVENT
SEQUENCE:1
TRANSP:OPAQUE
UID:termine_event.2008-01-18.7422116689_portal.mytum.de
DTSTART;TZID=Europe/Berlin:20080214T190000
ORGANIZER;CN="Martin Luce":mailto:luce@tum.de
DTSTAMP:20260423T031656
LAST-MODIFIED:20080118T153446
CATEGORIES:SOCIAL EVENT
SUMMARY:Architektur im Kreis der Künste – 200 Jahre Kunstakademie München
DESCRIPTION:Anläßlich des 200jährigen Jubiläums der Akademie zeigt das Architekturmuseum Arbeiten der dort wirkenden Lehrer für Architektur und ihrer Schüler und vermittelt die spezifi sche Form der Architektenausbildung an der Akademie.
CONTACT:Martin Luce
LOCATION:Architekturmuseum TUM in der Pinakothek der Moderne
CLASS:PUBLIC
URL;VALUE=URL:https://portal.mytum.de/termine/event.2008-01-18.7422116689
CREATED:20080118T153222
DTEND;TZID=Europe/Berlin:20080214T210000
END:VEVENT
END:VCALENDAR
