BEGIN:VCALENDAR
PRODID:-//Dr. Thomas Wagner\, TUM WWW & Online Services//myTUM Advanced Calendaring 0.1//DE
VERSION:2.0
METHOD:GET
BEGIN:VTIMEZONE
TZID:Europe/Berlin
BEGIN:STANDARD
DTSTART:20071028T010000
TZOFFSETTO:+0100
TZOFFSETFROM:+0000
TZNAME:CET
END:STANDARD
BEGIN:DAYLIGHT
TZOFFSETTO:+0200
TZOFFSETFROM:+0100
TZNAME:CEST
DTSTART:20080330T020000
END:DAYLIGHT
END:VTIMEZONE
BEGIN:VEVENT
SEQUENCE:1
TRANSP:OPAQUE
UID:termine_event.2008-01-10.8629499014_portal.mytum.de
DTSTART;TZID=Europe/Berlin:20081127T180000
ORGANIZER;CN="ptzscheu@tum.de":mailto:ptzscheu@tum.de
DTSTAMP:20260424T034553
LAST-MODIFIED:20080110T120406
CATEGORIES:VORTRAG
SUMMARY:Arbeitskreis Energietechnik
DESCRIPTION:Blindstromkompensation 
CONTACT:ptzscheu@tum.de
LOCATION:N3815
CLASS:PUBLIC
URL;VALUE=URL:https://portal.mytum.de/termine/event.2008-01-10.8629499014
CREATED:20080110T120102
DTEND;TZID=Europe/Berlin:20081127T200000
END:VEVENT
END:VCALENDAR
