BEGIN:VCALENDAR
PRODID:-//Dr. Thomas Wagner\, TUM WWW & Online Services//myTUM Advanced Calendaring 0.1//DE
VERSION:2.0
METHOD:GET
BEGIN:VTIMEZONE
TZID:Europe/Berlin
BEGIN:STANDARD
DTSTART:20071028T010000
TZOFFSETTO:+0100
TZOFFSETFROM:+0000
TZNAME:CET
END:STANDARD
BEGIN:DAYLIGHT
TZOFFSETTO:+0200
TZOFFSETFROM:+0100
TZNAME:CEST
DTSTART:20080330T020000
END:DAYLIGHT
END:VTIMEZONE
BEGIN:VEVENT
SEQUENCE:1
TRANSP:OPAQUE
UID:termine_event.2008-01-08.1217531051_portal.mytum.de
DTSTART;TZID=Europe/Berlin:20080131T190000
ORGANIZER;CN="Martin Luce":mailto:luce@tum.de
DTSTAMP:20260422T115918
LAST-MODIFIED:20080108T175308
CATEGORIES:VORTRAG
SUMMARY:Universal Design: Eine nationale Aufgabe in Japan
CONTACT:Martin Luce
LOCATION:Raum -1730 (UG), Lehrstuhl für Industrial Design
CLASS:PUBLIC
URL;VALUE=URL:https://portal.mytum.de/termine/event.2008-01-08.1217531051
CREATED:20080108T175201
DTEND;TZID=Europe/Berlin:20080131T210000
END:VEVENT
END:VCALENDAR
