BEGIN:VCALENDAR
PRODID:-//Dr. Thomas Wagner\, TUM WWW & Online Services//myTUM Advanced Calendaring 0.1//DE
VERSION:2.0
METHOD:GET
BEGIN:VTIMEZONE
TZID:Europe/Berlin
BEGIN:STANDARD
DTSTART:20071028T010000
TZOFFSETTO:+0100
TZOFFSETFROM:+0000
TZNAME:CET
END:STANDARD
BEGIN:DAYLIGHT
TZOFFSETTO:+0200
TZOFFSETFROM:+0100
TZNAME:CEST
DTSTART:20080330T020000
END:DAYLIGHT
END:VTIMEZONE
BEGIN:VEVENT
SEQUENCE:1
TRANSP:OPAQUE
UID:termine_event.2007-11-21.9428132107_portal.mytum.de
DTSTART;TZID=Europe/Berlin:20071206T100000
ORGANIZER;CN="presse@tum.de":mailto:presse@tum.de
DTSTAMP:20260420T120506
LAST-MODIFIED:20071121T170431
CATEGORIES:SOCIAL EVENT
SUMMARY:Dies Academicus
DESCRIPTION:Einladung an alle Mitglieder der Hochschule, insbesondere auch alle Studierenden, zur Akademische Jahresfeier der Technischen Universität München
CONTACT:presse@tum.de
LOCATION:Auditorium Maximum der Technischen Universität München, Arcisstrasse 21
CLASS:PUBLIC
URL;VALUE=URL:https://portal.mytum.de/termine/event.2007-11-21.9428132107
CREATED:20071121T164542
DTEND;TZID=Europe/Berlin:20071206T140000
END:VEVENT
END:VCALENDAR
