BEGIN:VCALENDAR
PRODID:-//Dr. Thomas Wagner\, TUM WWW & Online Services//myTUM Advanced Calendaring 0.1//DE
VERSION:2.0
METHOD:GET
BEGIN:VTIMEZONE
TZID:Europe/Berlin
BEGIN:STANDARD
DTSTART:20071028T010000
TZOFFSETTO:+0100
TZOFFSETFROM:+0000
TZNAME:CET
END:STANDARD
BEGIN:DAYLIGHT
TZOFFSETTO:+0200
TZOFFSETFROM:+0100
TZNAME:CEST
DTSTART:20080330T020000
END:DAYLIGHT
END:VTIMEZONE
BEGIN:VEVENT
SEQUENCE:1
TRANSP:OPAQUE
UID:termine_event.2007-11-19.5525130381_portal.mytum.de
DTSTART;TZID=Europe/Berlin:20080116T140000
ORGANIZER;CN="thywissen@unternehmertum.de":mailto:thywissen@unternehmertum.de
DTSTAMP:20260422T225228
LAST-MODIFIED:20071119T144117
CATEGORIES:FORTBILDUNG
SUMMARY:GründerTUM-Workshop mit Ernst & Young: Finanzen und Finanzierung
DESCRIPTION:Am 16. Januar 2008 geht es im GründerTUM-Workshop um „Finanzen und Finanzierung“. Der Workshop gibt mit den Themen Finanzplanung, Buchführung und Cashmanagement Antworten auf Fragen rund ums Geld. Zudem stellt sich der High-Tech Gründerfonds vor. Bei Interesse schicken Sie bitte neben Ihren Fragen das Executive Summary ihrer Geschäftsidee an Herrn Andreas Unseld, unseld@unternehmertum.de! 
CONTACT:thywissen@unternehmertum.de
LOCATION:Ort: Ernst&amp;Young, Arnulfstr. 126, München
CLASS:PUBLIC
URL;VALUE=URL:https://portal.mytum.de/termine/event.2007-11-19.5525130381
CREATED:20071119T143912
DTEND;TZID=Europe/Berlin:20080116T190000
END:VEVENT
END:VCALENDAR
