BEGIN:VCALENDAR
PRODID:-//Dr. Thomas Wagner\, TUM WWW & Online Services//myTUM Advanced Calendaring 0.1//DE
VERSION:2.0
METHOD:GET
BEGIN:VTIMEZONE
TZID:Europe/Berlin
BEGIN:STANDARD
DTSTART:20071028T010000
TZOFFSETTO:+0100
TZOFFSETFROM:+0000
TZNAME:CET
END:STANDARD
BEGIN:DAYLIGHT
TZOFFSETTO:+0200
TZOFFSETFROM:+0100
TZNAME:CEST
DTSTART:20080330T020000
END:DAYLIGHT
END:VTIMEZONE
BEGIN:VEVENT
SEQUENCE:1
TRANSP:OPAQUE
UID:termine_event.2007-11-19.4986587198_portal.mytum.de
DTSTART;TZID=Europe/Berlin:20071121T140000
ORGANIZER;CN="thywissen@unternehmertum.de":mailto:thywissen@unternehmertum.de
DTSTAMP:20260425T144224
LAST-MODIFIED:20071119T135058
CATEGORIES:FORTBILDUNG
SUMMARY:GründerTUM-Workshop mit Ernst & Young: Marketing und Vertrieb 
DESCRIPTION:Am Mittwoch, den 21. November 2007, findet der GründerTUM-Workshop zum Thema „Marketing und Vertrieb“ statt, den die UnternehmerTUM zusammen mit der Wirtschaftsberatung Ernst & Young durchführt. Im Workshop erfahren Sie u.a., wie Sie auch mit kleinen Marketing-Budgets Ihre Kunden erreichen, begeistern und pflegen können. Als Gründer oder Gründungsinteressierter haben Sie die Möglichkeit, gezielt Fragen zum Thema „Marketing und Vertrieb“ einzureichen und sich im Workshop von Ernst & Young-Experten beraten zu lassen. Bei Interesse schicken Sie bitte neben Ihren Fragen das Executive Summary ihrer Geschäftsidee an Herrn Andreas Unseld, unseld@unternehmertum.de! 
CONTACT:thywissen@unternehmertum.de
LOCATION:gate, Lichtenbergstr. 8, Garching
CLASS:PUBLIC
URL;VALUE=URL:https://portal.mytum.de/termine/event.2007-11-19.4986587198
CREATED:20071119T134818
DTEND;TZID=Europe/Berlin:20071121T190000
END:VEVENT
END:VCALENDAR
