BEGIN:VCALENDAR
PRODID:-//Dr. Thomas Wagner\, TUM WWW & Online Services//myTUM Advanced Calendaring 0.1//DE
VERSION:2.0
METHOD:GET
BEGIN:VTIMEZONE
TZID:Europe/Berlin
BEGIN:STANDARD
DTSTART:20071028T010000
TZOFFSETTO:+0100
TZOFFSETFROM:+0000
TZNAME:CET
END:STANDARD
BEGIN:DAYLIGHT
TZOFFSETTO:+0200
TZOFFSETFROM:+0100
TZNAME:CEST
DTSTART:20080330T020000
END:DAYLIGHT
END:VTIMEZONE
BEGIN:VEVENT
SEQUENCE:1
TRANSP:OPAQUE
UID:termine_event.2007-11-19.0353437495_portal.mytum.de
DTSTART;TZID=Europe/Berlin:20071205T140000
ORGANIZER;CN="thywissen@unternehmertum.de":mailto:thywissen@unternehmertum.de
DTSTAMP:20260425T011632
LAST-MODIFIED:20071119T144259
CATEGORIES:FORTBILDUNG
SUMMARY:GründerTUM-Workshop mit Ernst & Young: Schutz, Einkauf und Verkauf von IP
DESCRIPTION:Am 5. Dezember 2007 geht es im GründerTUM-Workshop um „Schutz, Einkauf und Verkauf von Intellectual Property“. Wie kann ich mein geistiges Eigentum schützen? Wie kann ich Patente übertragen und welche steuerlichen Gesichtspunkte spielen eine Rolle? Diese und weitere Fragen rund um das Thema „Intellectual Property“ sind Inhalt des vierten Workshops. Bei Interesse schicken Sie bitte neben Ihren Fragen das Executive Summary ihrer Geschäftsidee an Herrn Andreas Unseld, unseld@unternehmertum.de! 
CONTACT:thywissen@unternehmertum.de
LOCATION:gate, Lichtenbergstr. 8, Garching
CLASS:PUBLIC
URL;VALUE=URL:https://portal.mytum.de/termine/event.2007-11-19.0353437495
CREATED:20071119T141355
DTEND;TZID=Europe/Berlin:20071205T190000
END:VEVENT
END:VCALENDAR
