BEGIN:VCALENDAR
PRODID:-//Dr. Thomas Wagner\, TUM WWW & Online Services//myTUM Advanced Calendaring 0.1//DE
VERSION:2.0
METHOD:GET
BEGIN:VTIMEZONE
TZID:Europe/Berlin
BEGIN:STANDARD
DTSTART:20071028T010000
TZOFFSETTO:+0100
TZOFFSETFROM:+0000
TZNAME:CET
END:STANDARD
BEGIN:DAYLIGHT
TZOFFSETTO:+0200
TZOFFSETFROM:+0100
TZNAME:CEST
DTSTART:20080330T020000
END:DAYLIGHT
END:VTIMEZONE
BEGIN:VEVENT
SEQUENCE:1
TRANSP:OPAQUE
UID:termine_event.2007-11-12.1510317601_portal.mytum.de
DTSTART;TZID=Europe/Berlin:20080110T151500
ORGANIZER;CN="Dr. Uta Raeder":mailto:uta.raeder@wzw.tum.de
DTSTAMP:20260421T050646
LAST-MODIFIED:20071112T204120
CATEGORIES:VORTRAG
SUMMARY:Molekulare Werkzeuge zur Untersuchung von Diatomeen
CONTACT:Dr. Uta Raeder
LOCATION:Limnologische Station Iffeldorf
CLASS:PUBLIC
URL;VALUE=URL:https://portal.mytum.de/termine/event.2007-11-12.1510317601
CREATED:20071112T171551
DTEND;TZID=Europe/Berlin:20080110T160000
END:VEVENT
END:VCALENDAR
