BEGIN:VCALENDAR
PRODID:-//Dr. Thomas Wagner\, TUM WWW & Online Services//myTUM Advanced Calendaring 0.1//DE
VERSION:2.0
METHOD:GET
BEGIN:VTIMEZONE
TZID:Europe/Berlin
BEGIN:STANDARD
DTSTART:20071028T010000
TZOFFSETTO:+0100
TZOFFSETFROM:+0000
TZNAME:CET
END:STANDARD
BEGIN:DAYLIGHT
TZOFFSETTO:+0200
TZOFFSETFROM:+0100
TZNAME:CEST
DTSTART:20080330T020000
END:DAYLIGHT
END:VTIMEZONE
BEGIN:VEVENT
SEQUENCE:1
TRANSP:OPAQUE
UID:termine_event.2007-11-05.5759577205_portal.mytum.de
DTSTART;TZID=Europe/Berlin:20071105T160000
ORGANIZER;CN="Erika Mustermann":mailto:bla2foo@mytum.de
DTSTAMP:20260421T055018
LAST-MODIFIED:20071105T163010
CATEGORIES:EXKURSION
SUMMARY:Testtermin
CLASS:PUBLIC
URL;VALUE=URL:https://portal.mytum.de/termine/event.2007-11-05.5759577205
CREATED:20071105T162935
DTEND;TZID=Europe/Berlin:20071105T230000
END:VEVENT
END:VCALENDAR
