BEGIN:VCALENDAR
PRODID:-//Dr. Thomas Wagner\, TUM WWW & Online Services//myTUM Advanced Calendaring 0.1//DE
VERSION:2.0
METHOD:GET
BEGIN:VTIMEZONE
TZID:Europe/Berlin
BEGIN:STANDARD
DTSTART:20071028T010000
TZOFFSETTO:+0100
TZOFFSETFROM:+0000
TZNAME:CET
END:STANDARD
BEGIN:DAYLIGHT
TZOFFSETTO:+0200
TZOFFSETFROM:+0100
TZNAME:CEST
DTSTART:20080330T020000
END:DAYLIGHT
END:VTIMEZONE
BEGIN:VEVENT
SEQUENCE:1
TRANSP:OPAQUE
UID:termine_event.2007-10-17.9841248480_portal.mytum.de
DTSTART;TZID=Europe/Berlin:20071128T193000
ORGANIZER;CN="asta-umweltreferat@fs.tum.de":mailto:asta-umweltreferat@fs.tum.de
DTSTAMP:20260420T162425
LAST-MODIFIED:20071017T064143
CATEGORIES:VORTRAG
SUMMARY:Ringvorlesung Umwelt: Die Weltbank: Im Dienste sozialer und ökologischer Entwicklung?
DESCRIPTION:Dipl. pol. Daniela Setton Weltwirtschaft, Ökologie & Entwicklung e.V. (WEED), Berlin
CONTACT:asta-umweltreferat@fs.tum.de
LOCATION;ALTREP="https://portal.mytum.de/displayRoomMap?roomid=1070 ZG@0101":1070 ZG@0101, Hörsaal mit Exp.-Bühne, Gebäude 0101 (U-Trakt)
CLASS:PUBLIC
URL;VALUE=URL:https://portal.mytum.de/termine/event.2007-10-17.9841248480
ATTACH;VALUE=URI:http://rivo.fs.tum.de
CREATED:20071017T063944
DTEND;TZID=Europe/Berlin:20071128T210000
END:VEVENT
END:VCALENDAR
