BEGIN:VCALENDAR
PRODID:-//Dr. Thomas Wagner\, TUM WWW & Online Services//myTUM Advanced Calendaring 0.1//DE
VERSION:2.0
METHOD:GET
BEGIN:VTIMEZONE
TZID:Europe/Berlin
BEGIN:STANDARD
DTSTART:20071028T010000
TZOFFSETTO:+0100
TZOFFSETFROM:+0000
TZNAME:CET
END:STANDARD
BEGIN:DAYLIGHT
TZOFFSETTO:+0200
TZOFFSETFROM:+0100
TZNAME:CEST
DTSTART:20080330T020000
END:DAYLIGHT
END:VTIMEZONE
BEGIN:VEVENT
SEQUENCE:1
TRANSP:OPAQUE
UID:termine_event.2007-09-25.3733416613_portal.mytum.de
DTSTART;TZID=Europe/Berlin:20071030T180000
ORGANIZER;CN="Hilde Strobl":mailto:h.strobl@tum.de
DTSTAMP:20260420T232216
LAST-MODIFIED:20071008T132305
CATEGORIES:VORTRAG
SUMMARY:Architektur, Menschen und Ressourcen. Baumschlager-Eberle 2002-2007
DESCRIPTION:Baumschlager-Eberle: Architektur, Menschen und Ressourcen Mehr als 300 Bauten hat das Architekturbüro Baumschlager-Eberle seit seiner Gründung 1985 weltweit realisiert. 
LOCATION:Ernst von Siemens Auditorium, Architekturmusuem der TU München (Pinakothek der Moderne München)
CLASS:PUBLIC
URL;VALUE=URL:https://portal.mytum.de/termine/event.2007-09-25.3733416613
ATTACH;VALUE=URI:http://www.architekturmuseum.de/veranstaltungen/index.php
CREATED:20070925T201933
DTEND;TZID=Europe/Berlin:20071030T200000
END:VEVENT
END:VCALENDAR
