BEGIN:VCALENDAR
PRODID:-//Dr. Thomas Wagner\, TUM WWW & Online Services//myTUM Advanced Calendaring 0.1//DE
VERSION:2.0
METHOD:GET
BEGIN:VTIMEZONE
TZID:Europe/Berlin
BEGIN:STANDARD
DTSTART:20071028T010000
TZOFFSETTO:+0100
TZOFFSETFROM:+0000
TZNAME:CET
END:STANDARD
BEGIN:DAYLIGHT
TZOFFSETTO:+0200
TZOFFSETFROM:+0100
TZNAME:CEST
DTSTART:20080330T020000
END:DAYLIGHT
END:VTIMEZONE
BEGIN:VEVENT
SEQUENCE:1
TRANSP:OPAQUE
UID:termine_event.2007-09-25.1681918110_portal.mytum.de
DTSTART;TZID=Europe/Berlin:20071014T110000
ORGANIZER;CN="Hilde Strobl":mailto:h.strobl@tum.de
DTSTAMP:20260421T200642
LAST-MODIFIED:20071008T134200
CATEGORIES:VORTRAG
SUMMARY:Architektur-Sammeln. Wandel Hoefer Lorch + Hirsch
DESCRIPTION:Wandel Hoefer Lorch + Hirsch. Architektur – Sammeln  Das Architekturbüro Wandel Hoefer Lorch aus Saarbrücken wurde international bekannt durch ihren Entwurf zur neuen Dresdner Synagoge (2002 mit dem World Architecture Award ausgezeichnet), dem Bau des Dokumentationshauses der Gedenkstätte Hinzert im Hunsrück und des Jüdischen Zentrums Jakobsplatz, München. 
LOCATION:Ernst von Siemens Auditorium, Pinakothek der Moderne München
CLASS:PUBLIC
URL;VALUE=URL:https://portal.mytum.de/termine/event.2007-09-25.1681918110
ATTACH;VALUE=URI:http://www.architekturmuseum.de/veranstaltungen/index.php
CREATED:20070925T201608
DTEND;TZID=Europe/Berlin:20071014T130000
END:VEVENT
END:VCALENDAR
