BEGIN:VCALENDAR
PRODID:-//Dr. Thomas Wagner\, TUM WWW & Online Services//myTUM Advanced Calendaring 0.1//DE
VERSION:2.0
METHOD:GET
BEGIN:VTIMEZONE
TZID:Europe/Berlin
BEGIN:STANDARD
DTSTART:20071028T010000
TZOFFSETTO:+0100
TZOFFSETFROM:+0000
TZNAME:CET
END:STANDARD
BEGIN:DAYLIGHT
TZOFFSETTO:+0200
TZOFFSETFROM:+0100
TZNAME:CEST
DTSTART:20080330T020000
END:DAYLIGHT
END:VTIMEZONE
BEGIN:VEVENT
SEQUENCE:1
TRANSP:OPAQUE
UID:termine_event.2007-07-11.1753886685_portal.mytum.de
DTSTART;TZID=Europe/Berlin:20070728T100000
ORGANIZER;CN="manfred.lux@tum.de, Lehrstuhl für Planen und Bauen im ländlichen Raum":mailto:manfred.lux@tum.de
DTSTAMP:20260419T162345
LAST-MODIFIED:20070711T113420
CATEGORIES:SOCIAL EVENT
SUMMARY:Architektur - Ausstellung
DESCRIPTION:Ausstellung "Neue Ufer Hasankeyf", täglich von 10-18 Uhr, Eintritt frei
CONTACT:manfred.lux@tum.de, Lehrstuhl für Planen und Bauen im ländlichen Raum
LOCATION:Augsburger Rathaus im Unteren Fletz
CLASS:PUBLIC
URL;VALUE=URL:https://portal.mytum.de/termine/event.2007-07-11.1753886685
ATTACH;VALUE=URI:https://portal.mytum.de/termine/event.2007-07-11.1753886685/Einladungskarte
CREATED:20070711T112935
DTEND;TZID=Europe/Berlin:20070808T180000
END:VEVENT
END:VCALENDAR
