BEGIN:VCALENDAR
PRODID:-//Dr. Thomas Wagner\, TUM WWW & Online Services//myTUM Advanced Calendaring 0.1//DE
VERSION:2.0
METHOD:GET
BEGIN:VTIMEZONE
TZID:Europe/Berlin
BEGIN:STANDARD
DTSTART:20071028T010000
TZOFFSETTO:+0100
TZOFFSETFROM:+0000
TZNAME:CET
END:STANDARD
BEGIN:DAYLIGHT
TZOFFSETTO:+0200
TZOFFSETFROM:+0100
TZNAME:CEST
DTSTART:20080330T020000
END:DAYLIGHT
END:VTIMEZONE
BEGIN:VEVENT
SEQUENCE:1
TRANSP:OPAQUE
UID:termine_event.2007-07-02.3424565591_portal.mytum.de
DTSTART;TZID=Europe/Berlin:20070703T190000
ORGANIZER;CN="Andrea Paul":mailto:andrea.paul@tum.de
DTSTAMP:20260422T225218
LAST-MODIFIED:20070703T144202
CATEGORIES:VORTRAG
SUMMARY:Stadtlounge St. Gallen
DESCRIPTION:Vortrag Gastprofessor Carlos Martinez
CONTACT:Lehrstuhl Stadtraum und Stadtentwicklung
LOCATION;ALTREP="https://portal.mytum.de/displayRoomMap?roomid=2370@0503":2370@0503, HÖRSAAL MIT EXP.-BÜHNE, Gebäude 0503
CLASS:PUBLIC
URL;VALUE=URL:https://portal.mytum.de/termine/event.2007-07-02.3424565591
ATTACH;VALUE=URI:https://portal.mytum.de/termine/event.2007-07-02.3424565591/St.%20Gallen
CREATED:20070702T114222
DTEND;TZID=Europe/Berlin:20070703T210000
END:VEVENT
END:VCALENDAR
