BEGIN:VCALENDAR
PRODID:-//Dr. Thomas Wagner\, TUM WWW & Online Services//myTUM Advanced Calendaring 0.1//DE
VERSION:2.0
METHOD:GET
BEGIN:VTIMEZONE
TZID:Europe/Berlin
BEGIN:STANDARD
DTSTART:20071028T010000
TZOFFSETTO:+0100
TZOFFSETFROM:+0000
TZNAME:CET
END:STANDARD
BEGIN:DAYLIGHT
TZOFFSETTO:+0200
TZOFFSETFROM:+0100
TZNAME:CEST
DTSTART:20080330T020000
END:DAYLIGHT
END:VTIMEZONE
BEGIN:VEVENT
SEQUENCE:1
TRANSP:OPAQUE
UID:termine_event.2007-06-08.9099658505_portal.mytum.de
DTSTART;TZID=Europe/Berlin:20071026T140000
ORGANIZER;CN="Ursula Eschbach":mailto:ursula.eschbach@tum.de
DTSTAMP:20260423T071306
LAST-MODIFIED:20071008T133802
CATEGORIES:SOCIAL EVENT
SUMMARY:40 Jahre Informatik in München
DESCRIPTION:Die Fakultät für Informatik blickt auf 40 Jahre Informatik zurück: 1967 startete die erste Informatikvorlesung an der TU München. Damit entstand auch der Studienzweig „Informationsverarbeitung“ – der erste seinesgleichen in Deutschland. 
CONTACT:Ursula Eschbach
LOCATION:Fakultät für Informatik
CLASS:PUBLIC
URL;VALUE=URL:https://portal.mytum.de/termine/event.2007-06-08.9099658505
ATTACH;VALUE=URI:http://www.in.tum.de/mitteilungen/veranstaltungen.html.de
CREATED:20070608T162829
DTEND;TZID=Europe/Berlin:20071026T220000
END:VEVENT
END:VCALENDAR
