BEGIN:VCALENDAR
PRODID:-//Dr. Thomas Wagner\, TUM WWW & Online Services//myTUM Advanced Calendaring 0.1//DE
VERSION:2.0
METHOD:GET
BEGIN:VTIMEZONE
TZID:Europe/Berlin
BEGIN:STANDARD
DTSTART:20071028T010000
TZOFFSETTO:+0100
TZOFFSETFROM:+0000
TZNAME:CET
END:STANDARD
BEGIN:DAYLIGHT
TZOFFSETTO:+0200
TZOFFSETFROM:+0100
TZNAME:CEST
DTSTART:20080330T020000
END:DAYLIGHT
END:VTIMEZONE
BEGIN:VEVENT
SEQUENCE:1
TRANSP:OPAQUE
UID:termine_event.2007-04-18.7182426451_portal.mytum.de
DTSTART;TZID=Europe/Berlin:20070531T180000
ORGANIZER;CN="R. Heese M.A.: studienzentrum.muenchen@zv.tum.de":mailto:studienzentrum.muenchen@zv.tum.de
DTSTAMP:20260425T045317
LAST-MODIFIED:20070418T104536
CATEGORIES:VORTRAG
SUMMARY:Die Wirkung von Schaufenstern auf Konsumenten
DESCRIPTION:Sommervorlesung des VFF e.V. und des SFZ TUM: Referentin Prof. Dr. Sabine Fließ (FernUniversität in Hagen, Douglas-Stiftungslehrstuhl für Dienstleistungsmanagement)
CONTACT:R. Heese M.A.: studienzentrum.muenchen@zv.tum.de
LOCATION:TU München, Stammgelände, HS 1260 (Eingang Gabelsberger V)
CLASS:PUBLIC
URL;VALUE=URL:https://portal.mytum.de/termine/event.2007-04-18.7182426451
CREATED:20070418T104158
DTEND;TZID=Europe/Berlin:20070531T193000
END:VEVENT
END:VCALENDAR
