BEGIN:VCALENDAR
PRODID:-//Dr. Thomas Wagner\, TUM WWW & Online Services//myTUM Advanced Calendaring 0.1//DE
VERSION:2.0
METHOD:GET
BEGIN:VTIMEZONE
TZID:Europe/Berlin
BEGIN:STANDARD
DTSTART:20071028T010000
TZOFFSETTO:+0100
TZOFFSETFROM:+0000
TZNAME:CET
END:STANDARD
BEGIN:DAYLIGHT
TZOFFSETTO:+0200
TZOFFSETFROM:+0100
TZNAME:CEST
DTSTART:20080330T020000
END:DAYLIGHT
END:VTIMEZONE
BEGIN:VEVENT
SEQUENCE:1
TRANSP:OPAQUE
UID:termine_event.2007-04-07.0924134572_portal.mytum.de
DTSTART;TZID=Europe/Berlin:20070718T193000
ORGANIZER;CN="asta-umweltreferat@fs.tum.de":mailto:asta-umweltreferat@fs.tum.de
DTSTAMP:20260420T172336
LAST-MODIFIED:20111201T131000
CATEGORIES:VORTRAG
SUMMARY:Ringvorlesung Umwelt: Öko-Lebensmittel: Vom Bio-Laden zum Discounter?
DESCRIPTION:Referentin: Nina Stockebrand, M.Sc. Department für Agrarökonomie und Rurale Entwicklung, Universität Göttingen
CONTACT:asta-umweltreferat@fs.tum.de
LOCATION;ALTREP="https://portal.mytum.de/displayRoomMap?roomid=1100@0501":1100@0501, HÖRSAAL O.EXBÜHNE, Gebäude 0501
CLASS:PUBLIC
URL;VALUE=URL:https://portal.mytum.de/termine/event.2007-04-07.0924134572
ATTACH;VALUE=URI:http://rivo.fs.tum.de
CREATED:20070407T162812
DTEND;TZID=Europe/Berlin:20070718T210000
END:VEVENT
END:VCALENDAR
