BEGIN:VCALENDAR
PRODID:-//Dr. Thomas Wagner\, TUM WWW & Online Services//myTUM Advanced Calendaring 0.1//DE
VERSION:2.0
METHOD:GET
BEGIN:VTIMEZONE
TZID:Europe/Berlin
BEGIN:STANDARD
DTSTART:20071028T010000
TZOFFSETTO:+0100
TZOFFSETFROM:+0000
TZNAME:CET
END:STANDARD
BEGIN:DAYLIGHT
TZOFFSETTO:+0200
TZOFFSETFROM:+0100
TZNAME:CEST
DTSTART:20080330T020000
END:DAYLIGHT
END:VTIMEZONE
BEGIN:VEVENT
SEQUENCE:1
TRANSP:OPAQUE
UID:termine_event.2007-02-23.2754170899_portal.mytum.de
DTSTART;TZID=Europe/Berlin:20070716T083000
ORGANIZER;CN="Marga Cervinka":mailto:marga.cervinka@tum.de
DTSTAMP:20260421T020904
LAST-MODIFIED:20070720T080944
CATEGORIES:SOCIAL EVENT
SUMMARY:Architektur - Präsentation der Diplomarbeiten
CONTACT:Marga Cervinka
LOCATION;ALTREP="https://portal.mytum.de/displayRoomMap?roomid=0140@0501":0140@0501, IMMATRIKULATIONSHALLE HAUPTGEB, Gebäude 0501
CLASS:PUBLIC
URL;VALUE=URL:https://portal.mytum.de/termine/event.2007-02-23.2754170899
CREATED:20070223T141115
DTEND;TZID=Europe/Berlin:20070719T180000
END:VEVENT
END:VCALENDAR
