BEGIN:VCALENDAR
PRODID:-//Dr. Thomas Wagner\, TUM WWW & Online Services//myTUM Advanced Calendaring 0.1//DE
VERSION:2.0
METHOD:GET
BEGIN:VTIMEZONE
TZID:Europe/Berlin
BEGIN:STANDARD
DTSTART:20071028T010000
TZOFFSETTO:+0100
TZOFFSETFROM:+0000
TZNAME:CET
END:STANDARD
BEGIN:DAYLIGHT
TZOFFSETTO:+0200
TZOFFSETFROM:+0100
TZNAME:CEST
DTSTART:20080330T020000
END:DAYLIGHT
END:VTIMEZONE
BEGIN:VEVENT
SEQUENCE:1
TRANSP:OPAQUE
UID:termine_event.2006-11-23.2528004939_portal.mytum.de
DTSTART;TZID=Europe/Berlin:20070111T151500
ORGANIZER;CN="Thomas Wagner":mailto:wagner@tum.de
DTSTAMP:20260423T071221
LAST-MODIFIED:20061123T182007
CATEGORIES:VORTRAG
SUMMARY:Transfer, Festlegung und Wirkung von Uran sowie seiner radioaktiven Zerfallsprodukte im Wasserpfad
DESCRIPTION:Prof. Dr. E. Gert Dudel, TU Dresden, Institut für Allgemeine Ökologie
CONTACT:Dr. Uta Raeder
LOCATION:Limnologische Station, 82393 Iffeldorf, Hofmark 3
CLASS:PUBLIC
URL;VALUE=URL:https://portal.mytum.de/termine/event.2006-11-23.2528004939
ATTACH;VALUE=URI:http://www.limno.biologie.tu-muenchen.de
CREATED:20061123T181732
DTEND;TZID=Europe/Berlin:20070111T164500
END:VEVENT
END:VCALENDAR
