BEGIN:VCALENDAR
PRODID:-//Dr. Thomas Wagner\, TUM WWW & Online Services//myTUM Advanced Calendaring 0.1//DE
VERSION:2.0
METHOD:GET
BEGIN:VTIMEZONE
TZID:Europe/Berlin
BEGIN:STANDARD
DTSTART:20071028T010000
TZOFFSETTO:+0100
TZOFFSETFROM:+0000
TZNAME:CET
END:STANDARD
BEGIN:DAYLIGHT
TZOFFSETTO:+0200
TZOFFSETFROM:+0100
TZNAME:CEST
DTSTART:20080330T020000
END:DAYLIGHT
END:VTIMEZONE
BEGIN:VEVENT
SEQUENCE:1
TRANSP:OPAQUE
UID:termine_event.2006-11-07.7538964174_portal.mytum.de
DTSTART;TZID=Europe/Berlin:20061127T091500
ORGANIZER;CN="Gisela Twietmeyer":mailto:84CD1F57AEB93EB4@mytum.de
DTSTAMP:20260425T132440
LAST-MODIFIED:20061115T145650
CATEGORIES:VORTRAG
SUMMARY:Multicriteria Synthesis and Optimization of MEMS
DESCRIPTION:Oberseminar Elektrophysik und Physikalische Elektronik - Referentin: Prof. Dr. Kristina Shea, Lehrstuhl für Produktentwicklung der TU München
CONTACT:Dipl.-Ing. Martin Nießner
LOCATION:Lehrstuhl für Technische Elektrophysik - TU München Nordgelände, Theresienstr. 90, Geb. N4, Seminarraum N 1415
CLASS:PUBLIC
URL;VALUE=URL:https://portal.mytum.de/termine/event.2006-11-07.7538964174
CREATED:20061107T154553
DTEND;TZID=Europe/Berlin:20061127T120000
END:VEVENT
END:VCALENDAR
