BEGIN:VCALENDAR
PRODID:-//Dr. Thomas Wagner\, TUM WWW & Online Services//myTUM Advanced Calendaring 0.1//DE
VERSION:2.0
METHOD:GET
BEGIN:VTIMEZONE
TZID:Europe/Berlin
BEGIN:STANDARD
DTSTART:20071028T010000
TZOFFSETTO:+0100
TZOFFSETFROM:+0000
TZNAME:CET
END:STANDARD
BEGIN:DAYLIGHT
TZOFFSETTO:+0200
TZOFFSETFROM:+0100
TZNAME:CEST
DTSTART:20080330T020000
END:DAYLIGHT
END:VTIMEZONE
BEGIN:VEVENT
SEQUENCE:1
TRANSP:OPAQUE
UID:termine_event.2006-11-07.5018317035_portal.mytum.de
DTSTART;TZID=Europe/Berlin:20061211T091500
ORGANIZER;CN="Gisela Twietmeyer":mailto:84CD1F57AEB93EB4@mytum.de
DTSTAMP:20260424T052645
LAST-MODIFIED:20061115T151210
CATEGORIES:VORTRAG
SUMMARY:Automotive Electronic Trends and Challenges
DESCRIPTION:Oberseminar Elektrophysik und Physikalische Elektronik - Referent: Patrick Leteinturier, Infineon Technologies AG, Neubiberg
CONTACT:Dipl.-Ing. Martin Nießner
LOCATION:Lehrstuhl für Technische Elektrophysik - TU München Nordgelände, Theresienstr. 90, Geb. N4, Seminarraum N1415 
CLASS:PUBLIC
URL;VALUE=URL:https://portal.mytum.de/termine/event.2006-11-07.5018317035
CREATED:20061107T155821
DTEND;TZID=Europe/Berlin:20061211T120000
END:VEVENT
END:VCALENDAR
