BEGIN:VCALENDAR
PRODID:-//Dr. Thomas Wagner\, TUM WWW & Online Services//myTUM Advanced Calendaring 0.1//DE
VERSION:2.0
METHOD:GET
BEGIN:VTIMEZONE
TZID:Europe/Berlin
BEGIN:STANDARD
DTSTART:20071028T010000
TZOFFSETTO:+0100
TZOFFSETFROM:+0000
TZNAME:CET
END:STANDARD
BEGIN:DAYLIGHT
TZOFFSETTO:+0200
TZOFFSETFROM:+0100
TZNAME:CEST
DTSTART:20080330T020000
END:DAYLIGHT
END:VTIMEZONE
BEGIN:VEVENT
SEQUENCE:1
TRANSP:OPAQUE
UID:termine_event.2006-11-06.4527693060_portal.mytum.de
DTSTART;TZID=Europe/Berlin:20070115T100000
ORGANIZER;CN="Jutta Glöggler":mailto:j.gloeggler@mytum.de
DTSTAMP:20260424T231028
LAST-MODIFIED:20061106T220341
CATEGORIES:LEHRVERANSTALTUNG
SUMMARY:Neue Generation ländlicher Entwicklungsprogramme - Vorlesungsreihe von Dr. Franz Fischler
DESCRIPTION:Vorlesungsreihe von Dr. Franz Fischler ehem. EU-Agrarkommissar  Block III: Ausgewählte Agrarmärkte  Weitere Termine: • 20. November 2006: Globale Situation der Landwirtschaft • 18. Dezember 2006: Ausgewählte Agrarmärkte • 05. Februar 2007: Weiterentwicklung der EU  Die Veranstaltung findet jeweils Montags von 10 - 12 Uhr und von 13 - 17 Uhr statt.  Selbstverständlich sind Gäste außerhalb der Hochschule herzlich willkommen.  Kontakt Prof. Dr. Dr. h.c. Alois Heißenhuber Lehrstuhl für Wirtschaftslehre des Landbaues Alte Akademie 14, 85350 Freising Telefon: 08161 71-3410 Fax: 08161 71-4426 Email: heissenhuber@wzw.tum.de Internet: www.wzw.tum.de/wdl/  Information und Lageplan (pdf) 
CONTACT:Prof. Dr. A. Heißenhuber
LOCATION:Freising-Weihenstephan, Hörsaal 17
CLASS:PUBLIC
URL;VALUE=URL:https://portal.mytum.de/termine/event.2006-11-06.4527693060
ATTACH;VALUE=URI:http://www.agrar.wzw.tum.de
CREATED:20061106T215412
DTEND;TZID=Europe/Berlin:20070115T170000
END:VEVENT
END:VCALENDAR
