BEGIN:VCALENDAR
PRODID:-//Dr. Thomas Wagner\, TUM WWW & Online Services//myTUM Advanced Calendaring 0.1//DE
VERSION:2.0
METHOD:GET
BEGIN:VTIMEZONE
TZID:Europe/Berlin
BEGIN:STANDARD
DTSTART:20071028T010000
TZOFFSETTO:+0100
TZOFFSETFROM:+0000
TZNAME:CET
END:STANDARD
BEGIN:DAYLIGHT
TZOFFSETTO:+0200
TZOFFSETFROM:+0100
TZNAME:CEST
DTSTART:20080330T020000
END:DAYLIGHT
END:VTIMEZONE
BEGIN:VEVENT
SEQUENCE:1
TRANSP:OPAQUE
UID:termine_event.2006-11-02.2090888982_portal.mytum.de
DTSTART;TZID=Europe/Berlin:20061212T171500
ORGANIZER;CN="Dr.Schindler(Tel:089/289-23173)bzw. m.schindler@bv.tum.de":mailto:m.schindler@bv.tum.de
DTSTAMP:20260423T111519
LAST-MODIFIED:20061102T154923
CATEGORIES:VORTRAG
SUMMARY:Entwicklungen in der Hochwasservorhersage in Bayern(Vortrag von Dr.Alfons Vogelbacher,Bayerisches Landesamt für Umwelt)
DESCRIPTION:Ausgelöst durch das Pfingsthochwasser 1999 wurde vom Freistaat Bayern ein Innovationsprogramm für den Hochwassernachrichtendienst aufgelegt. Neben der Entwicklung von Vorhersagemodellen umfasste es den Aufbau eines neuen automatischen Online-Niederschlagsmessnetzes und die Optimierung des bestehenden Pegelnetzes. Mittlerweile werden seit 2003 regelmäßig und flächendeckend Vorhersagen erstellt, wobei das Hochwasser im August 2005 die bisher größte Herausforderung für die Vorhersage darstellte. Im Vortrag wird auf die Organisation und Durchführung des Vorhersagedienstes und die eingesetzten Modelle mit ihren Eingangsdaten (Messnetze und meteorologische Vorhersagen) eingegangen. Ergebnisse, Erfahrungen und künftige Entwicklungen in der Hochwasservorhersage werden vorgestellt.
CONTACT:Dr.Schindler(Tel:089/289-23173)bzw. m.schindler@bv.tum.de
LOCATION:Hörsaal 0670,Zwischengeschoss
CLASS:PUBLIC
URL;VALUE=URL:https://portal.mytum.de/termine/event.2006-11-02.2090888982
ATTACH;VALUE=URI:http://www.bv.tum.de
CREATED:20061102T144649
DTEND;TZID=Europe/Berlin:20061212T184500
END:VEVENT
END:VCALENDAR
