BEGIN:VCALENDAR
PRODID:-//Dr. Thomas Wagner\, TUM WWW & Online Services//myTUM Advanced Calendaring 0.1//DE
VERSION:2.0
METHOD:GET
BEGIN:VTIMEZONE
TZID:Europe/Berlin
BEGIN:STANDARD
DTSTART:20071028T010000
TZOFFSETTO:+0100
TZOFFSETFROM:+0000
TZNAME:CET
END:STANDARD
BEGIN:DAYLIGHT
TZOFFSETTO:+0200
TZOFFSETFROM:+0100
TZNAME:CEST
DTSTART:20080330T020000
END:DAYLIGHT
END:VTIMEZONE
BEGIN:VEVENT
SEQUENCE:1
TRANSP:OPAQUE
UID:termine_event.2006-10-30.7540776052_portal.mytum.de
DTSTART;TZID=Europe/Berlin:20070115T160000
ORGANIZER;CN="Dr. Tzscheutschler - ptzscheu@tum.de":mailto:ptzscheu@tum.de
DTSTAMP:20260420T031630
LAST-MODIFIED:20061030T162339
CATEGORIES:LEHRVERANSTALTUNG
SUMMARY:Verbrauchsverhalten von Wärmeerzeugern bei dynamisch variierten Lasten
DESCRIPTION:Energiewirtschaftliches Seminar; Referent: Dipl.-Ing. Helmuth Mühlbacher, TU München Lehrstuhl für Energiewirtschaft und Anwendungstechnik; Ort: Seminarsaal N3815, Gebäude N8, Nordgelände, Zugang über Theresienstr. 90 
CONTACT:Dr. Tzscheutschler - ptzscheu@tum.de
LOCATION:Seminarsaal N3815, Gebäude N8, Nordgelände, Zugang über Theresienstr. 90
CLASS:PUBLIC
URL;VALUE=URL:https://portal.mytum.de/termine/event.2006-10-30.7540776052
ATTACH;VALUE=URI:http://www.ewk.e-technik.tu-muenchen.de/aktuell/EWS067-1.pdf
CREATED:20061030T162234
DTEND;TZID=Europe/Berlin:20070115T173000
END:VEVENT
END:VCALENDAR
