BEGIN:VCALENDAR
PRODID:-//Dr. Thomas Wagner\, TUM WWW & Online Services//myTUM Advanced Calendaring 0.1//DE
VERSION:2.0
METHOD:GET
BEGIN:VTIMEZONE
TZID:Europe/Berlin
BEGIN:STANDARD
DTSTART:20071028T010000
TZOFFSETTO:+0100
TZOFFSETFROM:+0000
TZNAME:CET
END:STANDARD
BEGIN:DAYLIGHT
TZOFFSETTO:+0200
TZOFFSETFROM:+0100
TZNAME:CEST
DTSTART:20080330T020000
END:DAYLIGHT
END:VTIMEZONE
BEGIN:VEVENT
SEQUENCE:1
TRANSP:OPAQUE
UID:termine_event.2006-10-23.4062332957_portal.mytum.de
DTSTART;TZID=Europe/Berlin:20061030T150000
ORGANIZER;CN="Christine Beese":mailto:christine.beese@tum.de
DTSTAMP:20260423T011214
LAST-MODIFIED:20061023T114201
CATEGORIES:VORTRAG
SUMMARY:High Performance Mass Spectrometry of Nucleic Acids - Possibilities and Limitations in Genome Research
DESCRIPTION:Vortragender: Dr. Herbert Oberacher, Institut für Gerichtliche Medizin, Universität Inssbruck
CONTACT:Frau Glunz, Tel: 089/2180-78232
LOCATION:Seminarraum des Lehrstuhls für Hydrogeologie, Hydrochemie und Umweltanalytik der TU München, Marchioninistr. 17/Großhadern
CLASS:PUBLIC
URL;VALUE=URL:https://portal.mytum.de/termine/event.2006-10-23.4062332957
CREATED:20061023T114006
DTEND;TZID=Europe/Berlin:20061030T170000
END:VEVENT
END:VCALENDAR
