BEGIN:VCALENDAR
PRODID:-//Dr. Thomas Wagner\, TUM WWW & Online Services//myTUM Advanced Calendaring 0.1//DE
VERSION:2.0
METHOD:GET
BEGIN:VTIMEZONE
TZID:Europe/Berlin
BEGIN:STANDARD
DTSTART:20071028T010000
TZOFFSETTO:+0100
TZOFFSETFROM:+0000
TZNAME:CET
END:STANDARD
BEGIN:DAYLIGHT
TZOFFSETTO:+0200
TZOFFSETFROM:+0100
TZNAME:CEST
DTSTART:20080330T020000
END:DAYLIGHT
END:VTIMEZONE
BEGIN:VEVENT
SEQUENCE:1
TRANSP:OPAQUE
UID:termine_event.2006-10-10.0847455691_portal.mytum.de
DTSTART;TZID=Europe/Berlin:20061110T090000
ORGANIZER;CN="Stephanie Leimer":mailto:s.leimer@mytum.de
DTSTAMP:20260423T071109
LAST-MODIFIED:20061010T142528
CATEGORIES:FORTBILDUNG
SUMMARY:Workshop zur "Einführung in die TUM-Lernplattform"
CLASS:PUBLIC
URL;VALUE=URL:https://portal.mytum.de/termine/event.2006-10-10.0847455691
CREATED:20061010T142444
DTEND;TZID=Europe/Berlin:20061110T120000
END:VEVENT
END:VCALENDAR
