BEGIN:VCALENDAR
PRODID:-//Dr. Thomas Wagner\, TUM WWW & Online Services//myTUM Advanced Calendaring 0.1//DE
VERSION:2.0
METHOD:GET
BEGIN:VTIMEZONE
TZID:Europe/Berlin
BEGIN:STANDARD
DTSTART:20071028T010000
TZOFFSETTO:+0100
TZOFFSETFROM:+0000
TZNAME:CET
END:STANDARD
BEGIN:DAYLIGHT
TZOFFSETTO:+0200
TZOFFSETFROM:+0100
TZNAME:CEST
DTSTART:20080330T020000
END:DAYLIGHT
END:VTIMEZONE
BEGIN:VEVENT
SEQUENCE:1
TRANSP:OPAQUE
UID:termine_event.2006-08-25.6692671917_portal.mytum.de
DTSTART;TZID=Europe/Berlin:20070116T190000
ORGANIZER;CN="Friedrich@tum.de":mailto:Friedrich@tum.de
DTSTAMP:20260423T164400
LAST-MODIFIED:20060825T150054
CATEGORIES:VORTRAG
SUMMARY:Proben für die Mikroskopie - "Mit dem Speer nach der Zelle"
DESCRIPTION:Vortrag vom VDE Arbeitskreis Medzintechnik & LifeScience Electronic, Referent: Dr. Karin Schütze, P.A.L.M. Microlaser Technologies AG, Bernried
CONTACT:Friedrich@tum.de
LOCATION:TU München, Theresienstr. 90, Hörsaal N0314
CLASS:PUBLIC
URL;VALUE=URL:https://portal.mytum.de/termine/event.2006-08-25.6692671917
CREATED:20060825T144109
DTEND;TZID=Europe/Berlin:20070116T210000
END:VEVENT
END:VCALENDAR
