BEGIN:VCALENDAR
PRODID:-//Dr. Thomas Wagner\, TUM WWW & Online Services//myTUM Advanced Calendaring 0.1//DE
VERSION:2.0
METHOD:GET
BEGIN:VTIMEZONE
TZID:Europe/Berlin
BEGIN:STANDARD
DTSTART:20071028T010000
TZOFFSETTO:+0100
TZOFFSETFROM:+0000
TZNAME:CET
END:STANDARD
BEGIN:DAYLIGHT
TZOFFSETTO:+0200
TZOFFSETFROM:+0100
TZNAME:CEST
DTSTART:20080330T020000
END:DAYLIGHT
END:VTIMEZONE
BEGIN:VEVENT
SEQUENCE:1
TRANSP:OPAQUE
UID:termine_event.2006-08-25.4432461762_portal.mytum.de
DTSTART;TZID=Europe/Berlin:20061212T190000
ORGANIZER;CN="Friedrich@tum.de":mailto:Friedrich@tum.de
DTSTAMP:20260420T074514
LAST-MODIFIED:20060825T143900
CATEGORIES:VORTRAG
SUMMARY:Konfokale Mikroskopie
DESCRIPTION:Vortrag vom VDE Arbeitskreis Medzintechnik & LifeScience Electronic, Referenten: Dr. Katja Peter, Leica Microsysteme Wetzlar GmbH
CONTACT:Friedrich@tum.de
LOCATION:TU München, Theresienstr. 90, Hörsaal N0314
CLASS:PUBLIC
URL;VALUE=URL:https://portal.mytum.de/termine/event.2006-08-25.4432461762
CREATED:20060825T143723
DTEND;TZID=Europe/Berlin:20061212T210000
END:VEVENT
END:VCALENDAR
