BEGIN:VCALENDAR
PRODID:-//Dr. Thomas Wagner\, TUM WWW & Online Services//myTUM Advanced Calendaring 0.1//DE
VERSION:2.0
METHOD:GET
BEGIN:VTIMEZONE
TZID:Europe/Berlin
BEGIN:STANDARD
DTSTART:20071028T010000
TZOFFSETTO:+0100
TZOFFSETFROM:+0000
TZNAME:CET
END:STANDARD
BEGIN:DAYLIGHT
TZOFFSETTO:+0200
TZOFFSETFROM:+0100
TZNAME:CEST
DTSTART:20080330T020000
END:DAYLIGHT
END:VTIMEZONE
BEGIN:VEVENT
SEQUENCE:1
TRANSP:OPAQUE
UID:termine_event.2006-07-12.4001299183_portal.mytum.de
DTSTART;TZID=Europe/Berlin:20060725T093000
ORGANIZER;CN="Gisela Twietmeyer":mailto:84CD1F57AEB93EB4@mytum.de
DTSTAMP:20260421T050225
LAST-MODIFIED:20060712T164354
CATEGORIES:VORTRAG
SUMMARY:Luftspaltmodellierung in rotierenden elektrischen Maschinen
DESCRIPTION:AG "Simulation von Mikrostrukturen und elektronischen Bauelementen" Prof. H.-G. Herzog, TU München, FG Energiewandlungstechnik
CONTACT:Dipl.-INg. Martin Nießner
LOCATION:TUM, Lehrstuhl für Technische Elektrophysik, Theresienstr. 90, Geb. N4, Seminarraum N1415
CLASS:PUBLIC
URL;VALUE=URL:https://portal.mytum.de/termine/event.2006-07-12.4001299183
CREATED:20060712T162640
DTEND;TZID=Europe/Berlin:20060725T120000
END:VEVENT
END:VCALENDAR
