BEGIN:VCALENDAR
PRODID:-//Dr. Thomas Wagner\, TUM WWW & Online Services//myTUM Advanced Calendaring 0.1//DE
VERSION:2.0
METHOD:GET
BEGIN:VTIMEZONE
TZID:Europe/Berlin
BEGIN:STANDARD
DTSTART:20071028T010000
TZOFFSETTO:+0100
TZOFFSETFROM:+0000
TZNAME:CET
END:STANDARD
BEGIN:DAYLIGHT
TZOFFSETTO:+0200
TZOFFSETFROM:+0100
TZNAME:CEST
DTSTART:20080330T020000
END:DAYLIGHT
END:VTIMEZONE
BEGIN:VEVENT
SEQUENCE:1
TRANSP:OPAQUE
UID:termine_event.2006-06-30.8459912582_portal.mytum.de
DTSTART;TZID=Europe/Berlin:20060714T140000
ORGANIZER;CN="Dieter Grimm, grimm@mw.tum.de":mailto:grimm@mw.tum.de
DTSTAMP:20260424T225241
LAST-MODIFIED:20060630T142013
CATEGORIES:SOCIAL EVENT
SUMMARY:Tag der Fakultät Maschinenwesen 2006
DESCRIPTION:Wie immer am zweiten Freitag im Juli lädt die Fakultät für Maschinenwesen der TUM in Garching alle Absolventen, Promovierten, Studenten, Mitarbeiter, Ehemaligen und Freunde der Fakultät herzlich ein, gemeinsam den Abschluss eines erfolgreichen akademischen Jahres zu feiern: mit dem traditionellen Tag der Fakultät am 14. Juli 2006 im Fakultätsgebäude auf dem Garchinger Campus. Feierlicher Höhepunkt der Veranstaltung ist der Festakt um 14.45 Uhr, bei dem die diesjährigen Absolventen und Promovierten geehrt und verabschiedet werden. Danach findet ein Sektempfang statt. Abschluss und Glanzlicht bildet der große Ball der Fakultät (18.30 bis 2.00 Uhr). Nähere Informationen zum Programm und zur Bestellung von Karten für den Ball: www.tdf.mw.tum.de 
CONTACT:Dieter Grimm, grimm@mw.tum.de
LOCATION:Fakultät für Maschinenwesen, Garching
CLASS:PUBLIC
URL;VALUE=URL:https://portal.mytum.de/termine/event.2006-06-30.8459912582
CREATED:20060630T141725
DTEND;TZID=Europe/Berlin:20060715T020000
END:VEVENT
END:VCALENDAR
