BEGIN:VCALENDAR
PRODID:-//Dr. Thomas Wagner\, TUM WWW & Online Services//myTUM Advanced Calendaring 0.1//DE
VERSION:2.0
METHOD:GET
BEGIN:VTIMEZONE
TZID:Europe/Berlin
BEGIN:STANDARD
DTSTART:20071028T010000
TZOFFSETTO:+0100
TZOFFSETFROM:+0000
TZNAME:CET
END:STANDARD
BEGIN:DAYLIGHT
TZOFFSETTO:+0200
TZOFFSETFROM:+0100
TZNAME:CEST
DTSTART:20080330T020000
END:DAYLIGHT
END:VTIMEZONE
BEGIN:VEVENT
SEQUENCE:1
TRANSP:OPAQUE
UID:termine_event.2006-05-31.1086786033_portal.mytum.de
DTSTART;TZID=Europe/Berlin:20060629T133000
ORGANIZER;CN="Gertrud Günther":mailto:gertrud.guenther@tum.de
DTSTAMP:20260420T205919
LAST-MODIFIED:20060531T144516
CATEGORIES:VORTRAG
SUMMARY:Aktive Beeinflussung von Schall und Schwingungen
DESCRIPTION:Oberseminar Mensch-Maschine-Kommunikation
CONTACT:Lehrstuhl für Mensch-Maschine-Kommunikation
LOCATION:Seminarsaal S 4601, Gebäude S6, TU München, Arcisstr. 16
CLASS:PUBLIC
URL;VALUE=URL:https://portal.mytum.de/termine/event.2006-05-31.1086786033
CREATED:20060531T143828
DTEND;TZID=Europe/Berlin:20060629T150000
END:VEVENT
END:VCALENDAR
