BEGIN:VCALENDAR
PRODID:-//Dr. Thomas Wagner\, TUM WWW & Online Services//myTUM Advanced Calendaring 0.1//DE
VERSION:2.0
METHOD:GET
BEGIN:VTIMEZONE
TZID:Europe/Berlin
BEGIN:STANDARD
DTSTART:20071028T010000
TZOFFSETTO:+0100
TZOFFSETFROM:+0000
TZNAME:CET
END:STANDARD
BEGIN:DAYLIGHT
TZOFFSETTO:+0200
TZOFFSETFROM:+0100
TZNAME:CEST
DTSTART:20080330T020000
END:DAYLIGHT
END:VTIMEZONE
BEGIN:VEVENT
SEQUENCE:1
TRANSP:OPAQUE
UID:termine_event.2006-05-22.0985279106_portal.mytum.de
DTSTART;TZID=Europe/Berlin:20060719T200000
ORGANIZER;CN="Cornelia Götz, corneliagoetz@surfeu.de":mailto:corneliagoetz@surfeu.de
DTSTAMP:20260422T170956
LAST-MODIFIED:20060522T123900
CATEGORIES:SOCIAL EVENT
SUMMARY:Konzert Sinfonietta: "In die Weite"
DESCRIPTION:Jean Sibelius: Karelia-Suite Sergej Rachmaninow: Klavierkonzert Nr. 2 Alexander Borodin: Sinfonie Nr. 1 Preise: 12,-, ermäßigt 7,- Tickets im Vorverkauf unter München-Ticket und an der Abendkasse ab 19 Uhr
CONTACT:Cornelia Götz, corneliagoetz@surfeu.de
LOCATION:Große Aula der LMU, Geschwister-Scholl-Platz 1
CLASS:PUBLIC
URL;VALUE=URL:https://portal.mytum.de/termine/event.2006-05-22.0985279106
CREATED:20060522T123458
DTEND;TZID=Europe/Berlin:20060719T230000
END:VEVENT
END:VCALENDAR
