BEGIN:VCALENDAR
PRODID:-//Dr. Thomas Wagner\, TUM WWW & Online Services//myTUM Advanced Calendaring 0.1//DE
VERSION:2.0
METHOD:GET
BEGIN:VTIMEZONE
TZID:Europe/Berlin
BEGIN:STANDARD
DTSTART:20071028T010000
TZOFFSETTO:+0100
TZOFFSETFROM:+0000
TZNAME:CET
END:STANDARD
BEGIN:DAYLIGHT
TZOFFSETTO:+0200
TZOFFSETFROM:+0100
TZNAME:CEST
DTSTART:20080330T020000
END:DAYLIGHT
END:VTIMEZONE
BEGIN:VEVENT
SEQUENCE:1
TRANSP:OPAQUE
UID:termine_event.2006-05-09.3484924908_portal.mytum.de
DTSTART;TZID=Europe/Berlin:20060510T190000
ORGANIZER;CN="Verena Meinecke":mailto:meinecke@tum.de
DTSTAMP:20260424T034603
LAST-MODIFIED:20060509T172215
CATEGORIES:SOCIAL EVENT
SUMMARY:COPENHAGEN: Theaterstück (in engl. Sprache)
DESCRIPTION:Während des Zweiten Weltkriegs streiten zwei alte Freunde -- beide Nobelpreisträger und Physiker -- über die Möglichkeit, eine Atombombe zu bauen. Der geheimnisvolle Besuch Werner Heisenbergs bei Niels Bohr in Copenhagen 1941 führt zu einer Diskussion, die das Schicksal von Ländern noch beeinflussen sollte. Eintritt 6 Euro.
CONTACT:Tel. 089 / 32 38 85 13
LOCATION:TUM, Stammgelände, Arcisstr. 21, HS 0220
CLASS:PUBLIC
URL;VALUE=URL:https://portal.mytum.de/termine/event.2006-05-09.3484924908
ATTACH;VALUE=URI:http://www.magnolia-theatre.com/
ATTACH;VALUE=URI:https://portal.mytum.de/termine/event.2006-05-09.3484924908/COPENHAGEN
CREATED:20060509T161908
DTEND;TZID=Europe/Berlin:20060510T210000
END:VEVENT
END:VCALENDAR
