BEGIN:VCALENDAR
PRODID:-//Dr. Thomas Wagner\, TUM WWW & Online Services//myTUM Advanced Calendaring 0.1//DE
VERSION:2.0
METHOD:GET
BEGIN:VTIMEZONE
TZID:Europe/Berlin
BEGIN:STANDARD
DTSTART:20071028T010000
TZOFFSETTO:+0100
TZOFFSETFROM:+0000
TZNAME:CET
END:STANDARD
BEGIN:DAYLIGHT
TZOFFSETTO:+0200
TZOFFSETFROM:+0100
TZNAME:CEST
DTSTART:20080330T020000
END:DAYLIGHT
END:VTIMEZONE
BEGIN:VEVENT
SEQUENCE:1
TRANSP:OPAQUE
UID:termine_event.2006-05-04.7766141253_portal.mytum.de
DTSTART;TZID=Europe/Berlin:20060706T193000
ORGANIZER;CN="Jutta Glöggler":mailto:j.gloeggler@mytum.de
DTSTAMP:20260421T013853
LAST-MODIFIED:20060504T170332
CATEGORIES:VORTRAG
SUMMARY:Erneuerbare Energien als Chance für die Zukunft
DESCRIPTION:Vortragsreihe "Lebensstil, Wachstum und Arbeitsplätze" im Sommersemester 2006  "Erneuerbare Energien als Chance für die Zukunft" Referent: MdB Dr. Hermann Scheer Träger des Alternativen Nobelpreises Kontakt Prof. Dr. Dr. h.c. Alois Heißenhuber Lehrstuhl für Wirtschaftslehre des Landbaues Alte Akademie 14, 85350 Freising Telefon: 08161 71-3410 Fax: 08161 71-4426 Email: heissenhuber@wzw.tum.de http://www.wzw.tum.de/wdl/ 
CONTACT:Prof. Dr. Dr. h.c. Heißenhuber
LOCATION:Freising-Weihenstephan, Hörsaal 12
CLASS:PUBLIC
URL;VALUE=URL:https://portal.mytum.de/termine/event.2006-05-04.7766141253
ATTACH;VALUE=URI:http://www.agrar.wzw.tum.de
CREATED:20060504T165936
DTEND;TZID=Europe/Berlin:20060706T213000
END:VEVENT
END:VCALENDAR
