BEGIN:VCALENDAR
PRODID:-//Dr. Thomas Wagner\, TUM WWW & Online Services//myTUM Advanced Calendaring 0.1//DE
VERSION:2.0
METHOD:GET
BEGIN:VTIMEZONE
TZID:Europe/Berlin
BEGIN:STANDARD
DTSTART:20071028T010000
TZOFFSETTO:+0100
TZOFFSETFROM:+0000
TZNAME:CET
END:STANDARD
BEGIN:DAYLIGHT
TZOFFSETTO:+0200
TZOFFSETFROM:+0100
TZNAME:CEST
DTSTART:20080330T020000
END:DAYLIGHT
END:VTIMEZONE
BEGIN:VEVENT
SEQUENCE:1
TRANSP:OPAQUE
UID:termine_event.2006-04-24.5788712363_portal.mytum.de
DTSTART;TZID=Europe/Berlin:20060424T142730
ORGANIZER;CN="Aras Kartouzian":mailto:aras.kartouzian@tum.de
DTSTAMP:20260426T030603
LAST-MODIFIED:20060424T145948
SUMMARY:PRIVAT
DESCRIPTION:QM I Vorlesung
CLASS:PUBLIC
URL;VALUE=URL:https://portal.mytum.de/termine/event.2006-04-24.5788712363
CREATED:20060424T145938
DTEND;TZID=Europe/Berlin:20060424T235959
END:VEVENT
END:VCALENDAR
