BEGIN:VCALENDAR
PRODID:-//Dr. Thomas Wagner\, TUM WWW & Online Services//myTUM Advanced Calendaring 0.1//DE
VERSION:2.0
METHOD:GET
BEGIN:VTIMEZONE
TZID:Europe/Berlin
BEGIN:STANDARD
DTSTART:20071028T010000
TZOFFSETTO:+0100
TZOFFSETFROM:+0000
TZNAME:CET
END:STANDARD
BEGIN:DAYLIGHT
TZOFFSETTO:+0200
TZOFFSETFROM:+0100
TZNAME:CEST
DTSTART:20080330T020000
END:DAYLIGHT
END:VTIMEZONE
BEGIN:VEVENT
SEQUENCE:1
TRANSP:OPAQUE
UID:termine_event.2006-03-14.3936698631_portal.mytum.de
DTSTART;TZID=Europe/Berlin:20060508T150000
ORGANIZER;CN="Christine Beese":mailto:christine.beese@tum.de
DTSTAMP:20260425T013628
LAST-MODIFIED:20060314T092251
CATEGORIES:VORTRAG
SUMMARY:Real-time Analysis of Gas Constituents by REMPI-MS
DESCRIPTION:Vortragender: Prof. Dr. Thorsten Benter, FB C - Physikalische Chemie Bergische Universität Wuppertal 
CONTACT:Frau Glunz; Tel: 089/2180-78232
LOCATION:Seminarraum des Lehrstuhls für Hydrogeologie, Hydrochemie und Umweltanalytik der TU München, Marchioninistr. 17/Großhadern
CLASS:PUBLIC
URL;VALUE=URL:https://portal.mytum.de/termine/event.2006-03-14.3936698631
CREATED:20060314T091953
DTEND;TZID=Europe/Berlin:20060508T170000
END:VEVENT
END:VCALENDAR
