BEGIN:VCALENDAR
PRODID:-//Dr. Thomas Wagner\, TUM WWW & Online Services//myTUM Advanced Calendaring 0.1//DE
VERSION:2.0
METHOD:GET
BEGIN:VTIMEZONE
TZID:Europe/Berlin
BEGIN:STANDARD
DTSTART:20071028T010000
TZOFFSETTO:+0100
TZOFFSETFROM:+0000
TZNAME:CET
END:STANDARD
BEGIN:DAYLIGHT
TZOFFSETTO:+0200
TZOFFSETFROM:+0100
TZNAME:CEST
DTSTART:20080330T020000
END:DAYLIGHT
END:VTIMEZONE
BEGIN:VEVENT
SEQUENCE:1
TRANSP:OPAQUE
UID:termine_event.2006-03-10.9449367659_portal.mytum.de
DTSTART;TZID=Europe/Berlin:20060620T140000
ORGANIZER;CN="Christine Beese":mailto:christine.beese@tum.de
DTSTAMP:20260420T222440
LAST-MODIFIED:20060620T123903
CATEGORIES:VORTRAG
SUMMARY:Studies on Colloid Deposition onto a Solid Surface using the Automated Video Microscopic Imaging and Data Acquisition System (AVMIDAS)
DESCRIPTION:Vortragender: PH. D. Amr Abdel-Fattah, Chemistry Division, Los Alamos National Laboratory, USA
CONTACT:Frau Glunz; Tel: 089/2180-78232
LOCATION:Seminarraum des Lehrstuhls für Hydrogeologie, Hydrochemie und Umweltanalytik der TU München, Marchioninistr. 17/Großhadern
CLASS:PUBLIC
URL;VALUE=URL:https://portal.mytum.de/termine/event.2006-03-10.9449367659
CREATED:20060310T104544
DTEND;TZID=Europe/Berlin:20060620T154500
END:VEVENT
END:VCALENDAR
