BEGIN:VCALENDAR
PRODID:-//Dr. Thomas Wagner\, TUM WWW & Online Services//myTUM Advanced Calendaring 0.1//DE
VERSION:2.0
METHOD:GET
BEGIN:VTIMEZONE
TZID:Europe/Berlin
BEGIN:STANDARD
DTSTART:20071028T010000
TZOFFSETTO:+0100
TZOFFSETFROM:+0000
TZNAME:CET
END:STANDARD
BEGIN:DAYLIGHT
TZOFFSETTO:+0200
TZOFFSETFROM:+0100
TZNAME:CEST
DTSTART:20080330T020000
END:DAYLIGHT
END:VTIMEZONE
BEGIN:VEVENT
SEQUENCE:1
TRANSP:OPAQUE
UID:termine_event.2006-03-04.3849177187_portal.mytum.de
DTSTART;TZID=Europe/Berlin:20060324T090000
ORGANIZER;CN="Dr. Stephanie Kruis (s.kruis@tum.de)":mailto:s.kruis@tum.de
DTSTAMP:20260424T033004
LAST-MODIFIED:20060304T153227
SUMMARY:Workshop "Einführung in die TUM Lernplattform"
CONTACT:Dr. Stephanie Kruis (s.kruis@tum.de)
LOCATION:Multimediaraum des Medienzentrums (Lothstr. 17, Rgb. 1. Stock)
CLASS:PUBLIC
URL;VALUE=URL:https://portal.mytum.de/termine/event.2006-03-04.3849177187
CREATED:20060304T152624
DTEND;TZID=Europe/Berlin:20060324T120000
END:VEVENT
END:VCALENDAR
