BEGIN:VCALENDAR
PRODID:-//Dr. Thomas Wagner\, TUM WWW & Online Services//myTUM Advanced Calendaring 0.1//DE
VERSION:2.0
METHOD:GET
BEGIN:VTIMEZONE
TZID:Europe/Berlin
BEGIN:STANDARD
DTSTART:20071028T010000
TZOFFSETTO:+0100
TZOFFSETFROM:+0000
TZNAME:CET
END:STANDARD
BEGIN:DAYLIGHT
TZOFFSETTO:+0200
TZOFFSETFROM:+0100
TZNAME:CEST
DTSTART:20080330T020000
END:DAYLIGHT
END:VTIMEZONE
BEGIN:VEVENT
SEQUENCE:1
TRANSP:OPAQUE
UID:termine_event.2006-02-24.6046447896_portal.mytum.de
DTSTART;TZID=Europe/Berlin:20060330T160000
ORGANIZER;CN="Sabine Hennig":mailto:vorabeintrag.univis26569@mytum.de
DTSTAMP:20260419T231541
LAST-MODIFIED:20060224T144751
CATEGORIES:VORTRAG
SUMMARY:Dynamics of T cell activation in vivo
DESCRIPTION:Referent: Dr. Philippe Bousso, Institut Pasteur Paris; Seminar des SFB 456 "Zielstrukturen für selektive Tumorinterventionen", Sprecher: Univ.-Prof. Dr. Dr. h.c. Hermann Wagner, Institut für Med. Mikrobiologie, Immunologie und Hygiene der Technischen Universität München, Trogerstr. 30, 81675 München
CONTACT:Prof. Dr. Thomas Brocker, Institut für Immunologie
LOCATION:Institute for Immunology, Seminarroom 2, Entry at Goethestr. 29, 4rd floor
CLASS:PUBLIC
URL;VALUE=URL:https://portal.mytum.de/termine/event.2006-02-24.6046447896
CREATED:20060224T144324
DTEND;TZID=Europe/Berlin:20060330T170000
END:VEVENT
END:VCALENDAR
