BEGIN:VCALENDAR
PRODID:-//Dr. Thomas Wagner\, TUM WWW & Online Services//myTUM Advanced Calendaring 0.1//DE
VERSION:2.0
METHOD:GET
BEGIN:VTIMEZONE
TZID:Europe/Berlin
BEGIN:STANDARD
DTSTART:20071028T010000
TZOFFSETTO:+0100
TZOFFSETFROM:+0000
TZNAME:CET
END:STANDARD
BEGIN:DAYLIGHT
TZOFFSETTO:+0200
TZOFFSETFROM:+0100
TZNAME:CEST
DTSTART:20080330T020000
END:DAYLIGHT
END:VTIMEZONE
BEGIN:VEVENT
SEQUENCE:1
TRANSP:OPAQUE
UID:termine_event.2006-02-24.2807202943_portal.mytum.de
DTSTART;TZID=Europe/Berlin:20060306T133000
ORGANIZER;CN="mba@iisar.de":mailto:mba@iisar.de
DTSTAMP:20260420T205824
LAST-MODIFIED:20060224T111954
CATEGORIES:VORTRAG
SUMMARY:Chernobyl's Legacy
DESCRIPTION:Am 26. April 2006 jährt sich der Reaktorunfall von Tschernobyl zum zwanzigsten Mal. Der Vortrag beschäftigt sich mit den Ergebnissen eines vor kurzem veröffentlichten Berichts des internationalen Tschernobyl Forums.
CONTACT:mba@iisar.de
LOCATION:Fakultät für Maschinenwesen (Hörsaal MW 0250), Boltzmannstr. 15, 85748 Garching
CLASS:PUBLIC
URL;VALUE=URL:https://portal.mytum.de/termine/event.2006-02-24.2807202943
CREATED:20060224T110120
DTEND;TZID=Europe/Berlin:20060306T150000
END:VEVENT
END:VCALENDAR
