BEGIN:VCALENDAR
PRODID:-//Dr. Thomas Wagner\, TUM WWW & Online Services//myTUM Advanced Calendaring 0.1//DE
VERSION:2.0
METHOD:GET
BEGIN:VTIMEZONE
TZID:Europe/Berlin
BEGIN:STANDARD
DTSTART:20071028T010000
TZOFFSETTO:+0100
TZOFFSETFROM:+0000
TZNAME:CET
END:STANDARD
BEGIN:DAYLIGHT
TZOFFSETTO:+0200
TZOFFSETFROM:+0100
TZNAME:CEST
DTSTART:20080330T020000
END:DAYLIGHT
END:VTIMEZONE
BEGIN:VEVENT
SEQUENCE:1
TRANSP:OPAQUE
UID:termine_event.2006-02-17.3948122681_portal.mytum.de
DTSTART;TZID=Europe/Berlin:20060222T190000
ORGANIZER;CN="karin.frank@ph.tum.de":mailto:karin.frank@ph.tum.de
DTSTAMP:20260424T034327
LAST-MODIFIED:20060217T102354
CATEGORIES:VORTRAG
SUMMARY:Einstein und die "Illuminati": Antimaterie im Praxistest
DESCRIPTION:Dozent: Dr. Rolf Landua. Europäisches Kernforschungszentrum (CERN) in Genf/Schweiz.
CONTACT:karin.frank@ph.tum.de
LOCATION:Ehrensaal, Deutsches Museum, Museumsinsel 1, München. Vortragsserie: &quot;Phyik und Technik&quot;
CLASS:PUBLIC
URL;VALUE=URL:https://portal.mytum.de/termine/event.2006-02-17.3948122681
ATTACH;VALUE=URI:http://www.deutsches-museum.de/info/veranst/winter206.html
CREATED:20060217T100954
DTEND;TZID=Europe/Berlin:20060222T203000
END:VEVENT
END:VCALENDAR
