BEGIN:VCALENDAR
PRODID:-//Dr. Thomas Wagner\, TUM WWW & Online Services//myTUM Advanced Calendaring 0.1//DE
VERSION:2.0
METHOD:GET
BEGIN:VTIMEZONE
TZID:Europe/Berlin
BEGIN:STANDARD
DTSTART:20071028T010000
TZOFFSETTO:+0100
TZOFFSETFROM:+0000
TZNAME:CET
END:STANDARD
BEGIN:DAYLIGHT
TZOFFSETTO:+0200
TZOFFSETFROM:+0100
TZNAME:CEST
DTSTART:20080330T020000
END:DAYLIGHT
END:VTIMEZONE
BEGIN:VEVENT
SEQUENCE:1
TRANSP:OPAQUE
UID:termine_event.2006-01-11.9832764534_portal.mytum.de
DTSTART;TZID=Europe/Berlin:20060302T093000
ORGANIZER;CN="Herr Roland Fischer (fischer@fml.mw.tum.de)":mailto:fischer@fml.mw.tum.de
DTSTAMP:20260420T074505
LAST-MODIFIED:20060111T152630
CATEGORIES:TAGUNG
SUMMARY:15. Deutscher Materialfluss-Kongress
DESCRIPTION:Titel: Intralogistik – Heute – Morgen – Übermorgen; Veranstalter: VDI Gesellschaft Fördertechnik Materialfluss Logistik 
CONTACT:Herr Roland Fischer (fischer@fml.mw.tum.de)
LOCATION:Fakultät Machinenwesen, TU München, Garching
CLASS:PUBLIC
URL;VALUE=URL:https://portal.mytum.de/termine/event.2006-01-11.9832764534
ATTACH;VALUE=URI:http://www.fml.mw.tum.de/mfk2006
CREATED:20060111T133623
DTEND;TZID=Europe/Berlin:20060303T140000
END:VEVENT
END:VCALENDAR
